BEGIN:VCALENDAR
VERSION:2.0
PRODID:-//Tukios.com/
BEGIN:VEVENT
UID:72516dfe-fe50-4fcc-8278-940b30f229d5@www.ambrosefuneralhomes.com
DTSTAMP:20260424T014335Z
DTSTART:20260502T220000Z
DTEND:20260503T000000Z
SUMMARY:Visitation
DESCRIPTION:
URL:https://www.ambrosefuneralhomes.com/obituaries/wanda-hartley
LOCATION:Arbutus location 1328 Sulphur Spring Road  Arbutus MD 21227
GEO:39.2474584;-76.694628
END:VEVENT
END:VCALENDAR