BEGIN:VCALENDAR
VERSION:2.0
PRODID:-//Tukios.com/
BEGIN:VEVENT
UID:2df0f8b2-6ec7-4ddd-b64d-d885535ba5d6@www.ambrosefuneralhomes.com
DTSTAMP:20260424T014347Z
DTSTART:20260502T180000Z
DTEND:20260502T200000Z
SUMMARY:Visitation
DESCRIPTION:
URL:https://www.ambrosefuneralhomes.com/obituaries/wanda-hartley
LOCATION:Arbutus location 1328 Sulphur Spring Road  Arbutus MD 21227
GEO:39.2474584;-76.694628
END:VEVENT
END:VCALENDAR