BEGIN:VCALENDAR
VERSION:2.0
PRODID:-//Tukios.com/
BEGIN:VEVENT
UID:9deb633e-f52c-42ae-8343-d0edd702f9cd@www.ambrosefuneralhomes.com
DTSTAMP:20260420T111354Z
DTSTART:20260420T230000Z
DTEND:20260421T010000Z
SUMMARY:Visitation
DESCRIPTION:
URL:https://www.ambrosefuneralhomes.com/obituaries/sharon-johnson
LOCATION:Ambrose Funeral Home and Cremation Services of Lansdowne 2719 
	Hammonds Ferry Rd  Lansdowne MD 21227
GEO:39.2430546;-76.6650498
END:VEVENT
END:VCALENDAR