BEGIN:VCALENDAR
VERSION:2.0
PRODID:-//Tukios.com/
BEGIN:VEVENT
UID:d2179b21-7e05-455d-87eb-15328c7e8b45@www.ambrosefuneralhomes.com
DTSTAMP:20260420T111525Z
DTSTART:20260420T190000Z
DTEND:20260420T210000Z
SUMMARY:Visitation
DESCRIPTION:
URL:https://www.ambrosefuneralhomes.com/obituaries/sharon-johnson
LOCATION:Ambrose Funeral Home and Cremation Services of Lansdowne 2719 
	Hammonds Ferry Rd  Lansdowne MD 21227
GEO:39.2430546;-76.6650498
END:VEVENT
END:VCALENDAR