BEGIN:VCALENDAR
VERSION:2.0
PRODID:-//Tukios.com/
BEGIN:VEVENT
UID:54f7215c-0325-4388-b380-ec85c64a10e9@www.ambrosefuneralhomes.com
DTSTAMP:20260422T021901Z
DTSTART:20260427T170000Z
DTEND:20260427T180000Z
SUMMARY:Graveside Service
DESCRIPTION:
URL:https://www.ambrosefuneralhomes.com/obituaries/giuseppe-lopiccolo
LOCATION: 7231 Ritchie Hwy  Glen Burnie MD 21061
GEO:39.1723877;-76.6179398
END:VEVENT
END:VCALENDAR