BEGIN:VCALENDAR
VERSION:2.0
PRODID:-//Tukios.com/
BEGIN:VEVENT
UID:2f4aac1a-af87-4cd5-9eb1-91f4ef917ccb@www.ambrosefuneralhomes.com
DTSTAMP:20260422T022138Z
DTSTART:20260427T150000Z
DTEND:20260427T160000Z
SUMMARY:Viewing
DESCRIPTION:
URL:https://www.ambrosefuneralhomes.com/obituaries/giuseppe-lopiccolo
LOCATION:Ambrose Funeral Home 1328 Sulphur Spring Road  Arbutus MD 21227
GEO:39.2474584;-76.694628
END:VEVENT
END:VCALENDAR