BEGIN:VCALENDAR
VERSION:2.0
PRODID:-//Tukios.com/
BEGIN:VEVENT
UID:afa729ed-8dba-450a-ba00-ad6aadd0345f@www.ambrosefuneralhomes.com
DTSTAMP:20260422T003715Z
DTSTART:20260509T150000Z
DTEND:20260509T160000Z
SUMMARY:Memorial Service
DESCRIPTION:
URL:https://www.ambrosefuneralhomes.com/obituaries/forrest-antill-jr
LOCATION:Ambrose Funeral Home 1328 Sulphur Spring Road  Arbutus MD 21227
GEO:39.2474584;-76.694628
END:VEVENT
END:VCALENDAR