BEGIN:VCALENDAR
VERSION:2.0
PRODID:-//Tukios.com/
BEGIN:VEVENT
UID:75b188db-b732-4876-8779-4669d55bde52@www.ambrosefuneralhomes.com
DTSTAMP:20260422T004602Z
DTSTART:20260509T140000Z
DTEND:20260509T150000Z
SUMMARY:Visitation
DESCRIPTION:
URL:https://www.ambrosefuneralhomes.com/obituaries/forrest-antill-jr
LOCATION:Ambrose Funeral Home 1328 Sulphur Spring Road  Arbutus MD 21227
GEO:39.2474584;-76.694628
END:VEVENT
END:VCALENDAR