BEGIN:VCALENDAR
VERSION:2.0
PRODID:-//Tukios.com/
BEGIN:VEVENT
UID:8104d173-127d-4707-9e6c-cb458b1f2096@www.ambrosefuneralhomes.com
DTSTAMP:20260422T003233Z
DTSTART:20260530T150000Z
DTEND:20260530T160000Z
SUMMARY:Celebration of Life
DESCRIPTION:
URL:https://www.ambrosefuneralhomes.com/obituaries/doris-berg
LOCATION:Pasadena United Methodist Church 61 Ritchie Highway  Pasadena MD 
	21122
GEO:39.105592;-76.5701392
END:VEVENT
END:VCALENDAR